BEGIN:VCALENDAR
VERSION:2.0
PRODID:-//PUSAT KARIR DAN INKUBATOR BISNIS
CALSCALE:GREGORIAN
METHOD:PUBLISH
X-WR-CALNAME:PUSAT KARIR DAN INKUBATOR BISNIS
X-ORIGINAL-URL:https://puskib.ummetro.ac.id/event/um-metro-x-brofesional-tes-wawasan-kebangsaan-mastery-8-0/
X-WR-CALDESC:UM METRO X BROFESIONAL: Tes Wawasan Kebangsaan Mastery 8.0
BEGIN:VEVENT
DTSTART:20251104T000000
DTEND:
SUMMARY:UM METRO X BROFESIONAL: Tes Wawasan Kebangsaan Mastery 8.0
DESCRIPTION:
LOCATION:
END:VEVENT
END:VCALENDAR
