BEGIN:VCALENDAR
VERSION:2.0
PRODID:-//PUSAT KARIR DAN INKUBATOR BISNIS
CALSCALE:GREGORIAN
METHOD:PUBLISH
X-WR-CALNAME:PUSAT KARIR DAN INKUBATOR BISNIS
X-ORIGINAL-URL:https://puskib.ummetro.ac.id/event/1041/
X-WR-CALDESC:BROFESIONAL X UM METRO: Tips &#038; Trik Rekrutmen BUMN
BEGIN:VEVENT
DTSTART:20260225T153000
DTEND:20260225T190000
SUMMARY:BROFESIONAL X UM METRO: Tips &#038; Trik Rekrutmen BUMN
DESCRIPTION:
LOCATION:
END:VEVENT
END:VCALENDAR
