BEGIN:VCALENDAR
VERSION:2.0
PRODID:-//PUSAT KARIR DAN INKUBATOR BISNIS
CALSCALE:GREGORIAN
METHOD:PUBLISH
X-WR-CALNAME:PUSAT KARIR DAN INKUBATOR BISNIS
X-ORIGINAL-URL:https://puskib.ummetro.ac.id/event/lowongan-kerja-adira-metro/
X-WR-CALDESC:LOWONGAN KERJA ADIRA METRO
BEGIN:VEVENT
DTSTART:
DTEND:
SUMMARY:LOWONGAN KERJA ADIRA METRO
DESCRIPTION:
LOCATION:
END:VEVENT
END:VCALENDAR
