BEGIN:VCALENDAR
VERSION:2.0
PRODID:-//PUSAT KARIR DAN INKUBATOR BISNIS
CALSCALE:GREGORIAN
METHOD:PUBLISH
X-WR-CALNAME:PUSAT KARIR DAN INKUBATOR BISNIS
X-ORIGINAL-URL:https://puskib.ummetro.ac.id/event/brofesional-x-um-metro-lpdp-mission-possible/
X-WR-CALDESC:BROFESIONAL X UM METRO: LPDP MISSION POSSIBLE
BEGIN:VEVENT
DTSTART:20260122T183000
DTEND:
SUMMARY:BROFESIONAL X UM METRO: LPDP MISSION POSSIBLE
DESCRIPTION:
LOCATION:ZOOM MEETING
END:VEVENT
END:VCALENDAR
